BEGIN:VCALENDAR
VERSION:2.0
PRODID:-//TCGB - ECPv6.15.17.1//NONSGML v1.0//EN
CALSCALE:GREGORIAN
METHOD:PUBLISH
X-WR-CALNAME:TCGB
X-ORIGINAL-URL:https://www.tcgb.de
X-WR-CALDESC:Veranstaltungen für TCGB
REFRESH-INTERVAL;VALUE=DURATION:PT1H
X-Robots-Tag:noindex
X-PUBLISHED-TTL:PT1H
BEGIN:VTIMEZONE
TZID:Europe/Berlin
BEGIN:DAYLIGHT
TZOFFSETFROM:+0100
TZOFFSETTO:+0200
TZNAME:CEST
DTSTART:20250330T010000
END:DAYLIGHT
BEGIN:STANDARD
TZOFFSETFROM:+0200
TZOFFSETTO:+0100
TZNAME:CET
DTSTART:20251026T010000
END:STANDARD
BEGIN:DAYLIGHT
TZOFFSETFROM:+0100
TZOFFSETTO:+0200
TZNAME:CEST
DTSTART:20260329T010000
END:DAYLIGHT
BEGIN:STANDARD
TZOFFSETFROM:+0200
TZOFFSETTO:+0100
TZNAME:CET
DTSTART:20261025T010000
END:STANDARD
BEGIN:DAYLIGHT
TZOFFSETFROM:+0100
TZOFFSETTO:+0200
TZNAME:CEST
DTSTART:20270328T010000
END:DAYLIGHT
BEGIN:STANDARD
TZOFFSETFROM:+0200
TZOFFSETTO:+0100
TZNAME:CET
DTSTART:20271031T010000
END:STANDARD
END:VTIMEZONE
BEGIN:VEVENT
DTSTART;TZID=Europe/Berlin:20260625T093000
DTEND;TZID=Europe/Berlin:20260625T153000
DTSTAMP:20260424T123010
CREATED:20260319T162507Z
LAST-MODIFIED:20260410T135015Z
UID:10000082-1782379800-1782401400@www.tcgb.de
SUMMARY:Auswärtsspiel: Herren 65 – TC Groß Borstel vs. TC Langenhorn
DESCRIPTION:Auswärts | Herren 65\nEigene Mannschaft: TC Groß Borstel\nGegner: TC Langenhorn\nHeim: TC Langenhorn\nGast: TC Groß Borstel\nSpielklasse: Klasse II\nLiga: Herren 65 Klasse II\nGruppe: Herren 65 Klasse II Gr. 122\nSpiel-Nr.: 1514
URL:https://www.tcgb.de/termin/auswaertsspiel-herren-65-tc-gross-borstel-vs-tc-langenhorn/
CATEGORIES:Auswärtsspiel,Punktspiele
END:VEVENT
BEGIN:VEVENT
DTSTART;TZID=Europe/Berlin:20260625T093000
DTEND;TZID=Europe/Berlin:20260625T153000
DTSTAMP:20260424T123010
CREATED:20260410T135015Z
LAST-MODIFIED:20260410T135015Z
UID:10000184-1782379800-1782401400@www.tcgb.de
SUMMARY:Auswärtsspiel: Herren 70 – TC Groß Borstel vs. SC Poppenbüttel
DESCRIPTION:Auswärts | Herren 70\nEigene Mannschaft: TC Groß Borstel\nGegner: SC Poppenbüttel\nHeim: SC Poppenbüttel\nGast: TC Groß Borstel II\nSpielklasse: Klasse IV\nLiga: Herren 70 Klasse IV\nGruppe: Herren 70 Klasse IV Gr. 128\nSpiel-Nr.: 1608
URL:https://www.tcgb.de/termin/auswaertsspiel-herren-70-tc-gross-borstel-vs-sc-poppenbuettel/
CATEGORIES:Auswärtsspiel,Punktspiele
END:VEVENT
END:VCALENDAR