BEGIN:VCALENDAR
VERSION:2.0
PRODID:-//TCGB - ECPv6.15.17.1//NONSGML v1.0//EN
CALSCALE:GREGORIAN
METHOD:PUBLISH
X-WR-CALNAME:TCGB
X-ORIGINAL-URL:https://www.tcgb.de
X-WR-CALDESC:Veranstaltungen für TCGB
REFRESH-INTERVAL;VALUE=DURATION:PT1H
X-Robots-Tag:noindex
X-PUBLISHED-TTL:PT1H
BEGIN:VTIMEZONE
TZID:Europe/Berlin
BEGIN:DAYLIGHT
TZOFFSETFROM:+0100
TZOFFSETTO:+0200
TZNAME:CEST
DTSTART:20250330T010000
END:DAYLIGHT
BEGIN:STANDARD
TZOFFSETFROM:+0200
TZOFFSETTO:+0100
TZNAME:CET
DTSTART:20251026T010000
END:STANDARD
BEGIN:DAYLIGHT
TZOFFSETFROM:+0100
TZOFFSETTO:+0200
TZNAME:CEST
DTSTART:20260329T010000
END:DAYLIGHT
BEGIN:STANDARD
TZOFFSETFROM:+0200
TZOFFSETTO:+0100
TZNAME:CET
DTSTART:20261025T010000
END:STANDARD
BEGIN:DAYLIGHT
TZOFFSETFROM:+0100
TZOFFSETTO:+0200
TZNAME:CEST
DTSTART:20270328T010000
END:DAYLIGHT
BEGIN:STANDARD
TZOFFSETFROM:+0200
TZOFFSETTO:+0100
TZNAME:CET
DTSTART:20271031T010000
END:STANDARD
END:VTIMEZONE
BEGIN:VEVENT
DTSTART;TZID=Europe/Berlin:20260425T140000
DTEND;TZID=Europe/Berlin:20260425T200000
DTSTAMP:20260422T121226
CREATED:20260319T162110Z
LAST-MODIFIED:20260410T134441Z
UID:10000001-1777125600-1777147200@www.tcgb.de
SUMMARY:Auswärtsspiel: Damen 55 – TC Groß Borstel vs. Niendorfer TSV
DESCRIPTION:Auswärts | Damen 55\nEigene Mannschaft: TC Groß Borstel\nGegner: Niendorfer TSV\nHeim: Niendorfer TSV\nGast: TC Groß Borstel\nSpielklasse: Klasse II\nLiga: Damen 55  Klasse II\nGruppe: Damen 55  Klasse II Gr. 064\nSpiel-Nr.: 781
URL:https://www.tcgb.de/termin/auswaertsspiel-damen-55-tc-gross-borstel-vs-niendorfer-tsv/
CATEGORIES:Auswärtsspiel,Punktspiele
END:VEVENT
BEGIN:VEVENT
DTSTART;TZID=Europe/Berlin:20260428T163000
DTEND;TZID=Europe/Berlin:20260428T223000
DTSTAMP:20260422T121226
CREATED:20260319T162110Z
LAST-MODIFIED:20260410T134441Z
UID:10000002-1777393800-1777415400@www.tcgb.de
SUMMARY:Heimspiel: Junioren U15 – TC Groß Borstel vs. THC von Horn und Hamm III
DESCRIPTION:Heim | Junioren U15\nEigene Mannschaft: TC Groß Borstel\nGegner: THC von Horn und Hamm III\nHeim: TC Groß Borstel\nGast: THC von Horn und Hamm III\nSpielklasse: Klasse IV\nLiga: Junioren U15 Klasse IV\nGruppe: Junioren U15 Klasse IV Gr. 220\nSpiel-Nr.: 2691
URL:https://www.tcgb.de/termin/heimspiel-junioren-u15-tc-gross-borstel-vs-thc-von-horn-und-hamm-iii/
LOCATION:TC Groß Borstel\, Paeplowweg 6\, Hamburg\, 22453\, Germany
CATEGORIES:Heimspiel,Punktspiele
END:VEVENT
BEGIN:VEVENT
DTSTART;TZID=Europe/Berlin:20260428T163000
DTEND;TZID=Europe/Berlin:20260428T223000
DTSTAMP:20260422T121226
CREATED:20260410T134442Z
LAST-MODIFIED:20260410T134442Z
UID:10000162-1777393800-1777415400@www.tcgb.de
SUMMARY:Auswärtsspiel: Junioren U15 – TC Groß Borstel vs. SV St. Georg
DESCRIPTION:Auswärts | Junioren U15\nEigene Mannschaft: TC Groß Borstel\nGegner: SV St. Georg\nHeim: SV St. Georg\nGast: TC Groß Borstel II\nSpielklasse: Klasse IV\nLiga: Junioren U15 Klasse IV\nGruppe: Junioren U15 Klasse IV Gr. 221\nSpiel-Nr.: 2705
URL:https://www.tcgb.de/termin/auswaertsspiel-junioren-u15-tc-gross-borstel-vs-sv-st-georg/
CATEGORIES:Auswärtsspiel,Punktspiele
END:VEVENT
BEGIN:VEVENT
DTSTART;TZID=Europe/Berlin:20260429T163000
DTEND;TZID=Europe/Berlin:20260429T223000
DTSTAMP:20260422T121226
CREATED:20260410T134442Z
LAST-MODIFIED:20260410T134442Z
UID:10000163-1777480200-1777501800@www.tcgb.de
SUMMARY:Heimspiel: Junioren U18 – TC Groß Borstel vs. Walddörfer SV
DESCRIPTION:Heim | Junioren U18\nEigene Mannschaft: TC Groß Borstel\nGegner: Walddörfer SV\nHeim: TC Groß Borstel II\nGast: Walddörfer SV\nSpielklasse: Klasse V\nLiga: Junioren U18 Klasse V\nGruppe: Junioren U18 Klasse V Gr. 237\nSpiel-Nr.: 2882
URL:https://www.tcgb.de/termin/heimspiel-junioren-u18-tc-gross-borstel-vs-walddoerfer-sv/
CATEGORIES:Heimspiel,Punktspiele
END:VEVENT
BEGIN:VEVENT
DTSTART;TZID=Europe/Berlin:20260430T093000
DTEND;TZID=Europe/Berlin:20260430T153000
DTSTAMP:20260422T121226
CREATED:20260319T162110Z
LAST-MODIFIED:20260410T134442Z
UID:10000005-1777541400-1777563000@www.tcgb.de
SUMMARY:Heimspiel: Herren 65 – TC Groß Borstel vs. Farmsener TV
DESCRIPTION:Heim | Herren 65\nEigene Mannschaft: TC Groß Borstel\nGegner: Farmsener TV\nHeim: TC Groß Borstel\nGast: Farmsener TV\nSpielklasse: Klasse II\nLiga: Herren 65 Klasse II\nGruppe: Herren 65 Klasse II Gr. 122\nSpiel-Nr.: 1503
URL:https://www.tcgb.de/termin/heimspiel-herren-65-tc-gross-borstel-vs-farmsener-tv/
LOCATION:TC Groß Borstel\, Paeplowweg 6\, Hamburg\, 22453\, Germany
CATEGORIES:Heimspiel,Punktspiele
END:VEVENT
END:VCALENDAR